BEGIN:VCALENDAR
VERSION:2.0
PRODID:-//Sunny Side - ECPv6.15.20//NONSGML v1.0//EN
CALSCALE:GREGORIAN
METHOD:PUBLISH
X-WR-CALNAME:Sunny Side
X-ORIGINAL-URL:https://sunnysidejazz.com
X-WR-CALDESC:Events for Sunny Side
REFRESH-INTERVAL;VALUE=DURATION:PT1H
X-Robots-Tag:noindex
X-PUBLISHED-TTL:PT1H
BEGIN:VTIMEZONE
TZID:America/Chicago
BEGIN:DAYLIGHT
TZOFFSETFROM:-0600
TZOFFSETTO:-0500
TZNAME:CDT
DTSTART:20250309T080000
END:DAYLIGHT
BEGIN:STANDARD
TZOFFSETFROM:-0500
TZOFFSETTO:-0600
TZNAME:CST
DTSTART:20251102T070000
END:STANDARD
BEGIN:DAYLIGHT
TZOFFSETFROM:-0600
TZOFFSETTO:-0500
TZNAME:CDT
DTSTART:20260308T080000
END:DAYLIGHT
BEGIN:STANDARD
TZOFFSETFROM:-0500
TZOFFSETTO:-0600
TZNAME:CST
DTSTART:20261101T070000
END:STANDARD
BEGIN:DAYLIGHT
TZOFFSETFROM:-0600
TZOFFSETTO:-0500
TZNAME:CDT
DTSTART:20270314T080000
END:DAYLIGHT
BEGIN:STANDARD
TZOFFSETFROM:-0500
TZOFFSETTO:-0600
TZNAME:CST
DTSTART:20271107T070000
END:STANDARD
END:VTIMEZONE
BEGIN:VEVENT
DTSTART;TZID=America/Chicago:20260130T120000
DTEND;TZID=America/Chicago:20260130T150000
DTSTAMP:20260422T145155
CREATED:20260123T213527Z
LAST-MODIFIED:20260123T213527Z
UID:3639-1769774400-1769785200@sunnysidejazz.com
SUMMARY:Brunch with Sunny Side Jazz Trio at Hotel Saint Vincent
DESCRIPTION:Sunny Side is partnering with Hotel Saint Vincent kicking off a monthly brunch series at San Lorenzo. This restaurant makes incredible food. Sunny Side will play as a trio with different musicians each month.
URL:https://sunnysidejazz.com/event/brunch-with-sunny-side-jazz-trio-at-hotel-saint-vincent/
LOCATION:Hotel Saint Vincent\, 1507 Magazine St\, New Orleans\, LA\, 70130\, United States
CATEGORIES:Live Performances
ATTACH;FMTTYPE=image/jpeg:https://sunnysidejazz.com/wp-content/uploads/2025/11/2025.11.05-Hotel-Saint-Vincent-Andy-Andrew-Rob.jpg
ORGANIZER;CN="Sunny Side":MAILTO:sunnysidejazznola@gmail.com
END:VEVENT
END:VCALENDAR