BEGIN:VCALENDAR
VERSION:2.0
PRODID:-//Sunny Side - ECPv6.15.20//NONSGML v1.0//EN
CALSCALE:GREGORIAN
METHOD:PUBLISH
X-WR-CALNAME:Sunny Side
X-ORIGINAL-URL:https://sunnysidejazz.com
X-WR-CALDESC:Events for Sunny Side
REFRESH-INTERVAL;VALUE=DURATION:PT1H
X-Robots-Tag:noindex
X-PUBLISHED-TTL:PT1H
BEGIN:VTIMEZONE
TZID:America/Chicago
BEGIN:DAYLIGHT
TZOFFSETFROM:-0600
TZOFFSETTO:-0500
TZNAME:CDT
DTSTART:20250309T080000
END:DAYLIGHT
BEGIN:STANDARD
TZOFFSETFROM:-0500
TZOFFSETTO:-0600
TZNAME:CST
DTSTART:20251102T070000
END:STANDARD
BEGIN:DAYLIGHT
TZOFFSETFROM:-0600
TZOFFSETTO:-0500
TZNAME:CDT
DTSTART:20260308T080000
END:DAYLIGHT
BEGIN:STANDARD
TZOFFSETFROM:-0500
TZOFFSETTO:-0600
TZNAME:CST
DTSTART:20261101T070000
END:STANDARD
BEGIN:DAYLIGHT
TZOFFSETFROM:-0600
TZOFFSETTO:-0500
TZNAME:CDT
DTSTART:20270314T080000
END:DAYLIGHT
BEGIN:STANDARD
TZOFFSETFROM:-0500
TZOFFSETTO:-0600
TZNAME:CST
DTSTART:20271107T070000
END:STANDARD
END:VTIMEZONE
BEGIN:VEVENT
DTSTART;TZID=America/Chicago:20260103T133000
DTEND;TZID=America/Chicago:20260103T173000
DTSTAMP:20260424T081148
CREATED:20251217T213027Z
LAST-MODIFIED:20251217T213027Z
UID:3614-1767447000-1767461400@sunnysidejazz.com
SUMMARY:Sunny Side at Cafe Negril
DESCRIPTION:Sunny Side is coming back to Cafe Negril for two shows in January! Come start the New Year off right with a solid injection of swing and traditional jazz into your soul!\n\n\nNO COVER\n\nTips welcomeVenmo @robmonty\n\nFind more info at https://sunnysidejazz.com/\n\nVideos Herehttps://www.youtube.com/channel/UC-i9jPShNGpaCG6cH9otmvQ
URL:https://sunnysidejazz.com/event/sunny-side-at-cafe-negril-16/
LOCATION:Cafe Negril\, 606 Frenchmen St.\, New Orleans\, LA\, 70116\, United States
CATEGORIES:Live Performances
ATTACH;FMTTYPE=image/jpeg:https://sunnysidejazz.com/wp-content/uploads/2025/09/IMG_4140-frame-at-1m16s.jpg
ORGANIZER;CN="Sunny Side":MAILTO:sunnysidejazznola@gmail.com
END:VEVENT
END:VCALENDAR